Package: DeeDeeExperiment Version: 0.99.5 Command: /Library/Frameworks/R.framework/Resources/bin/R CMD INSTALL DeeDeeExperiment StartedAt: 2025-10-16 15:26:03 -0400 (Thu, 16 Oct 2025) EndedAt: 2025-10-16 15:26:16 -0400 (Thu, 16 Oct 2025) EllapsedTime: 12.8 seconds RetCode: 0 Status: OK