Package: DeeDeeExperiment Version: 1.1.0 Maintainer: Najla Abassi MaintainerEmail: abassi.nejla96 at gmail.com git_url: https://git.bioconductor.org/packages/DeeDeeExperiment git_branch: devel git_last_commit: 482df35 git_last_commit_date: 2025-10-29 11:37:21 -0500 (Wed, 29 Oct 2025)