Package: DeconvoBuddies Version: 1.1.5 Command: /home/biocbuild/bbs-3.22-bioc/R/bin/R CMD INSTALL DeconvoBuddies StartedAt: 2025-10-09 16:00:09 -0400 (Thu, 09 Oct 2025) EndedAt: 2025-10-09 16:01:02 -0400 (Thu, 09 Oct 2025) EllapsedTime: 53.5 seconds RetCode: 0 Status: OK