Package: DeconvoBuddies Version: 1.1.5 Command: /home/biocbuild/bbs-3.22-bioc/R/bin/R CMD build --keep-empty-dirs --no-resave-data --md5 DeconvoBuddies StartedAt: 2025-10-09 17:17:02 -0400 (Thu, 09 Oct 2025) EndedAt: 2025-10-09 17:29:37 -0400 (Thu, 09 Oct 2025) EllapsedTime: 755.6 seconds RetCode: 0 Status: OK PackageFile: DeconvoBuddies_1.1.5.tar.gz PackageFileSize: 5.915 MiB