Package: DeconvoBuddies Version: 1.3.0 Command: /Library/Frameworks/R.framework/Resources/bin/R CMD INSTALL DeconvoBuddies StartedAt: 2025-11-21 15:29:12 -0500 (Fri, 21 Nov 2025) EndedAt: 2025-11-21 15:29:37 -0500 (Fri, 21 Nov 2025) EllapsedTime: 25.7 seconds RetCode: 0 Status: OK