Package: DeconvoBuddies Version: 1.3.0 Command: /Library/Frameworks/R.framework/Resources/bin/R CMD build --keep-empty-dirs --no-resave-data DeconvoBuddies StartedAt: 2025-11-21 16:05:43 -0500 (Fri, 21 Nov 2025) EndedAt: 2025-11-21 16:12:44 -0500 (Fri, 21 Nov 2025) EllapsedTime: 420.6 seconds RetCode: 0 Status: OK PackageFile: DeconvoBuddies_1.3.0.tar.gz PackageFileSize: 6.212 MiB