Package: DeconRNASeq Version: 1.49.0 Command: E:\biocbuild\bbs-3.21-bioc\R\bin\R.exe CMD INSTALL DeconRNASeq StartedAt: 2025-02-04 15:30:13 -0500 (Tue, 04 Feb 2025) EndedAt: 2025-02-04 15:30:31 -0500 (Tue, 04 Feb 2025) EllapsedTime: 18.5 seconds RetCode: 0 Status: OK