Package: DeconRNASeq Version: 1.49.0 Command: E:\biocbuild\bbs-3.21-bioc\R\bin\R.exe CMD check --no-multiarch --install=check:DeconRNASeq.install-out.txt --library=E:\biocbuild\bbs-3.21-bioc\R\library --no-vignettes --timings DeconRNASeq_1.49.0.tar.gz StartedAt: 2025-02-05 00:42:58 -0500 (Wed, 05 Feb 2025) EndedAt: 2025-02-05 00:43:44 -0500 (Wed, 05 Feb 2025) EllapsedTime: 45.4 seconds RetCode: 0 Status: OK CheckDir: DeconRNASeq.Rcheck Warnings: 0