Package: DeconRNASeq Version: 1.49.0 Command: rm -rf DeconRNASeq.buildbin-libdir && mkdir DeconRNASeq.buildbin-libdir && E:\biocbuild\bbs-3.21-bioc\R\bin\R.exe CMD INSTALL --build --library=DeconRNASeq.buildbin-libdir DeconRNASeq_1.49.0.tar.gz StartedAt: 2025-02-05 07:46:47 -0500 (Wed, 05 Feb 2025) EndedAt: 2025-02-05 07:47:17 -0500 (Wed, 05 Feb 2025) EllapsedTime: 30.6 seconds RetCode: 0 Status: OK PackageFile: DeconRNASeq_1.49.0.zip PackageFileSize: 6.582 MiB