Package: DeconRNASeq Version: 1.51.0 Command: /home/biocbuild/bbs-3.22-bioc/R/bin/R CMD INSTALL DeconRNASeq StartedAt: 2025-10-02 15:13:27 -0400 (Thu, 02 Oct 2025) EndedAt: 2025-10-02 15:13:34 -0400 (Thu, 02 Oct 2025) EllapsedTime: 6.4 seconds RetCode: 0 Status: OK