Package: DeconRNASeq Version: 1.49.0 Command: /home/biocbuild/bbs-3.21-bioc/R/bin/R CMD check --install=check:DeconRNASeq.install-out.txt --library=/home/biocbuild/bbs-3.21-bioc/R/site-library --timings DeconRNASeq_1.49.0.tar.gz StartedAt: 2025-02-04 21:31:32 -0500 (Tue, 04 Feb 2025) EndedAt: 2025-02-04 21:32:10 -0500 (Tue, 04 Feb 2025) EllapsedTime: 38.1 seconds RetCode: 0 Status: OK CheckDir: DeconRNASeq.Rcheck Warnings: 0