Package: DeconRNASeq Version: 1.49.0 Command: /Library/Frameworks/R.framework/Resources/bin/R CMD check --install=check:DeconRNASeq.install-out.txt --library=/Library/Frameworks/R.framework/Resources/library --no-vignettes --timings DeconRNASeq_1.49.0.tar.gz StartedAt: 2025-02-09 20:10:08 -0500 (Sun, 09 Feb 2025) EndedAt: 2025-02-09 20:10:53 -0500 (Sun, 09 Feb 2025) EllapsedTime: 44.7 seconds RetCode: 0 Status: OK CheckDir: DeconRNASeq.Rcheck Warnings: 0