Package: DeconRNASeq Version: 1.49.0 Command: /home/biocbuild/R/R/bin/R CMD INSTALL DeconRNASeq StartedAt: 2025-01-29 19:37:26 -0000 (Wed, 29 Jan 2025) EndedAt: 2025-01-29 19:37:35 -0000 (Wed, 29 Jan 2025) EllapsedTime: 9.6 seconds RetCode: 0 Status: OK