Package: DeconRNASeq Version: 1.49.0 Command: /home/biocbuild/R/R/bin/R CMD check --install=check:DeconRNASeq.install-out.txt --library=/home/biocbuild/R/R/site-library --no-vignettes --timings DeconRNASeq_1.49.0.tar.gz StartedAt: 2025-01-28 09:46:39 -0000 (Tue, 28 Jan 2025) EndedAt: 2025-01-28 09:47:16 -0000 (Tue, 28 Jan 2025) EllapsedTime: 37.0 seconds RetCode: 0 Status: OK CheckDir: DeconRNASeq.Rcheck Warnings: 0