Package: DeconRNASeq Version: 1.49.0 Command: /Library/Frameworks/R.framework/Resources/bin/R CMD INSTALL DeconRNASeq StartedAt: 2025-02-05 15:06:24 -0500 (Wed, 05 Feb 2025) EndedAt: 2025-02-05 15:06:28 -0500 (Wed, 05 Feb 2025) EllapsedTime: 4.0 seconds RetCode: 0 Status: OK