Package: DeconRNASeq Version: 1.49.0 Command: /Library/Frameworks/R.framework/Resources/bin/R CMD check --install=check:DeconRNASeq.install-out.txt --library=/Library/Frameworks/R.framework/Resources/library --no-vignettes --timings DeconRNASeq_1.49.0.tar.gz StartedAt: 2025-02-05 18:57:01 -0500 (Wed, 05 Feb 2025) EndedAt: 2025-02-05 18:57:17 -0500 (Wed, 05 Feb 2025) EllapsedTime: 16.2 seconds RetCode: 0 Status: OK CheckDir: DeconRNASeq.Rcheck Warnings: 0