Package: DeconRNASeq Version: 1.49.0 Command: /Library/Frameworks/R.framework/Resources/bin/R CMD build --keep-empty-dirs --no-resave-data DeconRNASeq StartedAt: 2025-02-05 16:05:31 -0500 (Wed, 05 Feb 2025) EndedAt: 2025-02-05 16:05:38 -0500 (Wed, 05 Feb 2025) EllapsedTime: 7.1 seconds RetCode: 0 Status: OK PackageFile: DeconRNASeq_1.49.0.tar.gz PackageFileSize: 6.623 MiB