Package: DeMAND Version: 1.37.0 Command: chmod a+r DeMAND -R && E:\biocbuild\bbs-3.21-bioc\R\bin\R.exe CMD build --keep-empty-dirs --no-resave-data DeMAND StartedAt: 2025-02-02 18:13:55 -0500 (Sun, 02 Feb 2025) EndedAt: 2025-02-02 18:14:09 -0500 (Sun, 02 Feb 2025) EllapsedTime: 13.5 seconds RetCode: 0 Status: OK PackageFile: DeMAND_1.37.0.tar.gz PackageFileSize: 167.4 KiB