Package: DeMAND Version: 1.37.0 Command: /Library/Frameworks/R.framework/Resources/bin/R CMD INSTALL DeMAND StartedAt: 2025-02-02 15:03:52 -0500 (Sun, 02 Feb 2025) EndedAt: 2025-02-02 15:04:26 -0500 (Sun, 02 Feb 2025) EllapsedTime: 33.5 seconds RetCode: 0 Status: OK