Package: Damsel Version: 1.5.0 Command: /home/biocbuild/R/R/bin/R CMD build --keep-empty-dirs --no-resave-data Damsel StartedAt: 2025-10-06 23:04:59 -0000 (Mon, 06 Oct 2025) EndedAt: 2025-10-06 23:08:20 -0000 (Mon, 06 Oct 2025) EllapsedTime: 201.1 seconds RetCode: 0 Status: OK PackageFile: Damsel_1.5.0.tar.gz PackageFileSize: 2.358 MiB