Package: Damsel Version: 1.5.0 Maintainer: Caitlin Page MaintainerEmail: caitlin.page at petermac.org git_url: https://git.bioconductor.org/packages/Damsel git_branch: devel git_last_commit: 7884cf5 git_last_commit_date: 2025-04-15 13:33:48 -0400 (Tue, 15 Apr 2025)