Package: DTA Version: 2.55.0 Command: /home/biocbuild/bbs-3.22-bioc/R/bin/R CMD build --keep-empty-dirs --no-resave-data --md5 DTA StartedAt: 2025-10-03 17:24:27 -0400 (Fri, 03 Oct 2025) EndedAt: 2025-10-03 17:29:20 -0400 (Fri, 03 Oct 2025) EllapsedTime: 293.3 seconds RetCode: 0 Status: OK PackageFile: DTA_2.55.0.tar.gz PackageFileSize: 11.22 MiB