Package: DSS Version: 2.55.0 Command: /home/biocbuild/bbs-3.21-bioc/R/bin/R CMD INSTALL DSS StartedAt: 2025-02-04 15:33:55 -0500 (Tue, 04 Feb 2025) EndedAt: 2025-02-04 15:34:36 -0500 (Tue, 04 Feb 2025) EllapsedTime: 41.2 seconds RetCode: 0 Status: OK