Package: DSS Version: 2.55.0 Command: /Library/Frameworks/R.framework/Resources/bin/R CMD build --keep-empty-dirs --no-resave-data DSS StartedAt: 2025-02-03 16:48:08 -0500 (Mon, 03 Feb 2025) EndedAt: 2025-02-03 16:48:33 -0500 (Mon, 03 Feb 2025) EllapsedTime: 25.3 seconds RetCode: 0 Status: OK PackageFile: DSS_2.55.0.tar.gz PackageFileSize: 2.029 MiB