Package: DSS Version: 2.55.0 Command: rm -rf DSS.buildbin-libdir && mkdir DSS.buildbin-libdir && /Users/biocbuild/BBS/utils/build-universal.sh DSS_2.55.0.tar.gz /Library/Frameworks/R.framework/Resources/bin/R DSS.buildbin-libdir StartedAt: 2025-02-03 22:48:50 -0500 (Mon, 03 Feb 2025) EndedAt: 2025-02-03 22:49:09 -0500 (Mon, 03 Feb 2025) EllapsedTime: 19.4 seconds RetCode: 0 Status: OK PackageFile: DSS_2.55.0.tgz PackageFileSize: 1.602 MiB