Back to Multiple platform build/check report for BioC 3.22:   simplified   long
ABC[D]EFGHIJKLMNOPQRSTUVWXYZ

This page was generated on 2025-05-02 12:03 -0400 (Fri, 02 May 2025).

HostnameOSArch (*)R versionInstalled pkgs
nebbiolo2Linux (Ubuntu 24.04.1 LTS)x86_644.5.0 (2025-04-11) -- "How About a Twenty-Six" 4744
palomino8Windows Server 2022 Datacenterx644.5.0 (2025-04-11 ucrt) -- "How About a Twenty-Six" 4506
lconwaymacOS 12.7.1 Montereyx86_644.5.0 Patched (2025-04-21 r88169) -- "How About a Twenty-Six" 4544
kjohnson3macOS 13.7.1 Venturaarm644.5.0 Patched (2025-04-21 r88169) -- "How About a Twenty-Six" 4486
taishanLinux (openEuler 24.03 LTS)aarch644.5.0 (2025-04-11) -- "How About a Twenty-Six" 4434
Click on any hostname to see more info about the system (e.g. compilers)      (*) as reported by 'uname -p', except on Windows and Mac OS X

All results for package DSS


To the developers/maintainers of the DSS package:
- Allow up to 24 hours (and sometimes 48 hours) for your latest push to git@git.bioconductor.org:packages/DSS.git to reflect on this report. See Troubleshooting Build Report for more information.
- Use the following Renviron settings to reproduce errors and warnings.
- If 'R CMD check' started to fail recently on the Linux builder(s) over a missing dependency, add the missing dependency to 'Suggests:' in your DESCRIPTION file. See Renviron.bioc for more information.

raw results

Package 616/2304HostnameOS / ArchINSTALLBUILDCHECKBUILD BIN
DSS 2.57.0  (landing page)
Hao Wu , Hao Feng
Snapshot Date: 2025-05-01 13:00 -0400 (Thu, 01 May 2025)
git_url: https://git.bioconductor.org/packages/DSS
git_branch: devel
git_last_commit: f26fd07
git_last_commit_date: 2025-04-15 10:14:13 -0400 (Tue, 15 Apr 2025)
nebbiolo2Linux (Ubuntu 24.04.1 LTS) / x86_64  OK    OK    WARNINGS  UNNEEDED, same version is already published
palomino8Windows Server 2022 Datacenter / x64  OK    OK    WARNINGS    OK  UNNEEDED, same version is already published
lconwaymacOS 12.7.1 Monterey / x86_64  OK    OK    WARNINGS    OK  UNNEEDED, same version is already published
kjohnson3macOS 13.7.1 Ventura / arm64  OK    OK    WARNINGS    OK  NO, package depends on 'bsseq' which is only available as a source package that needs compilation
taishanLinux (openEuler 24.03 LTS) / aarch64  OK    OK    WARNINGS  



Results for Bioconductor software packages that depend directly on package DSS

QUICK STATSOS / ArchINSTALLBUILDCHECKBUILD BIN
nebbiolo2Linux (Ubuntu 24.04.1 LTS) / x86_64
005
005
0014
palomino8Windows Server 2022 Datacenter / x64
005
005
0014
005
lconwaymacOS 12.7.1 Monterey / x86_64
005
005
0014
005
kjohnson3macOS 13.7.1 Ventura / arm64
005
005
0014
005
taishanLinux (openEuler 24.03 LTS) / aarch64
005
023
0012
Package 1/5HostnameOS / ArchINSTALLBUILDCHECKBUILD BIN
borealis 1.13.0  (landing page)
Garrett Jenkinson
git_last_commit: eac7e83
git_last_commit_date: 2025-04-15 12:49:57 -0400
nebbiolo2Linux (Ubuntu 24.04.1 LTS) / x86_64  OK    OK    OK  UNNEEDED, same version is already published
palomino8Windows Server 2022 Datacenter / x64  OK    OK    OK    OK  UNNEEDED, same version is already published
lconwaymacOS 12.7.1 Monterey / x86_64  OK    OK    OK    OK  UNNEEDED, same version is already published
kjohnson3macOS 13.7.1 Ventura / arm64  OK    OK    OK    OK  NO, package depends on 'bsseq' which is only available as a source package that needs compilation
taishanLinux (openEuler 24.03 LTS) / aarch64  OK    OK    OK  
Package 2/5HostnameOS / ArchINSTALLBUILDCHECKBUILD BIN
DeMixT 1.25.0  (landing page)
Ruonan Li
git_last_commit: 46497d5
git_last_commit_date: 2025-04-15 11:42:45 -0400
nebbiolo2Linux (Ubuntu 24.04.1 LTS) / x86_64  OK    OK    WARNINGS  UNNEEDED, same version is already published
palomino8Windows Server 2022 Datacenter / x64  OK    OK    WARNINGS    OK  UNNEEDED, same version is already published
lconwaymacOS 12.7.1 Monterey / x86_64  OK    OK    WARNINGS    OK  UNNEEDED, same version is already published
kjohnson3macOS 13.7.1 Ventura / arm64  OK    OK    WARNINGS    OK  NO, package depends on 'DSS' which is only available as a source package that needs compilation
taishanLinux (openEuler 24.03 LTS) / aarch64  OK    OK    WARNINGS  
Package 3/5HostnameOS / ArchINSTALLBUILDCHECKBUILD BIN
kissDE 1.29.0  (landing page)
Aurélie Siberchicot
git_last_commit: babe2b1
git_last_commit_date: 2025-04-15 11:17:57 -0400
nebbiolo2Linux (Ubuntu 24.04.1 LTS) / x86_64  OK    OK    OK  UNNEEDED, same version is already published
palomino8Windows Server 2022 Datacenter / x64  OK    OK    OK    OK  UNNEEDED, same version is already published
lconwaymacOS 12.7.1 Monterey / x86_64  OK    OK    OK    OK  UNNEEDED, same version is already published
kjohnson3macOS 13.7.1 Ventura / arm64  OK    OK    OK    OK  NO, package depends on 'DSS' which is only available as a source package that needs compilation
taishanLinux (openEuler 24.03 LTS) / aarch64  OK    OK    OK  
Package 4/5HostnameOS / ArchINSTALLBUILDCHECKBUILD BIN
metaseqR2 1.21.0  (landing page)
Panagiotis Moulos
git_last_commit: 5972858
git_last_commit_date: 2025-04-15 11:58:27 -0400
nebbiolo2Linux (Ubuntu 24.04.1 LTS) / x86_64  OK    OK    OK  UNNEEDED, same version is already published
palomino8Windows Server 2022 Datacenter / x64  OK    OK    OK    OK  UNNEEDED, same version is already published
lconwaymacOS 12.7.1 Monterey / x86_64  OK    OK    OK    OK  UNNEEDED, same version is already published
kjohnson3macOS 13.7.1 Ventura / arm64  OK    OK    OK    OK  NO, package depends on 'DSS' which is only available as a source package that needs compilation
taishanLinux (openEuler 24.03 LTS) / aarch64  OK    ERROR  skipped
Package 5/5HostnameOS / ArchINSTALLBUILDCHECKBUILD BIN
methylSig 1.21.0  (landing page)
Raymond G. Cavalcante
git_last_commit: ecbe132
git_last_commit_date: 2025-04-15 11:57:46 -0400
nebbiolo2Linux (Ubuntu 24.04.1 LTS) / x86_64  OK    OK    OK  UNNEEDED, same version is already published
palomino8Windows Server 2022 Datacenter / x64  OK    OK    OK    OK  UNNEEDED, same version is already published
lconwaymacOS 12.7.1 Monterey / x86_64  OK    OK    OK    OK  UNNEEDED, same version is already published
kjohnson3macOS 13.7.1 Ventura / arm64  OK    OK    OK    OK  NO, package depends on 'bsseq' which is only available as a source package that needs compilation
taishanLinux (openEuler 24.03 LTS) / aarch64  OK    ERROR  skipped