Package: DRIMSeq Version: 1.37.0 Command: /home/biocbuild/R/R/bin/R CMD INSTALL DRIMSeq StartedAt: 2025-10-06 20:49:09 -0000 (Mon, 06 Oct 2025) EndedAt: 2025-10-06 20:49:27 -0000 (Mon, 06 Oct 2025) EllapsedTime: 18.5 seconds RetCode: 0 Status: OK