Package: DRIMSeq Version: 1.39.0 Command: /home/biocbuild/bbs-3.23-bioc/R/bin/R CMD INSTALL DRIMSeq StartedAt: 2025-11-23 15:34:14 -0500 (Sun, 23 Nov 2025) EndedAt: 2025-11-23 15:34:27 -0500 (Sun, 23 Nov 2025) EllapsedTime: 13.4 seconds RetCode: 0 Status: OK