Package: DRIMSeq Version: 1.39.0 Command: /home/biocbuild/bbs-3.23-bioc/R/bin/R CMD build --keep-empty-dirs --no-resave-data DRIMSeq StartedAt: 2025-11-23 17:24:48 -0500 (Sun, 23 Nov 2025) EndedAt: 2025-11-23 17:27:11 -0500 (Sun, 23 Nov 2025) EllapsedTime: 143.1 seconds RetCode: 0 Status: OK PackageFile: DRIMSeq_1.39.0.tar.gz PackageFileSize: 481.4 KiB