Package: DOtools Version: 0.99.11 Command: /home/biocbuild/bbs-3.22-bioc/R/bin/R CMD INSTALL DOtools StartedAt: 2025-10-19 15:58:36 -0400 (Sun, 19 Oct 2025) EndedAt: 2025-10-19 15:59:26 -0400 (Sun, 19 Oct 2025) EllapsedTime: 49.8 seconds RetCode: 0 Status: OK