Package: DOtools Version: 0.99.11 Command: /home/biocbuild/bbs-3.22-bioc/R/bin/R CMD build --keep-empty-dirs --no-resave-data --md5 DOtools StartedAt: 2025-10-19 17:26:15 -0400 (Sun, 19 Oct 2025) EndedAt: 2025-10-19 17:27:52 -0400 (Sun, 19 Oct 2025) EllapsedTime: 97.1 seconds RetCode: 1 Status: ERROR PackageFile: None PackageFileSize: NA