Package: DOtools Version: 1.1.0 Command: /home/biocbuild/bbs-3.23-bioc/R/bin/R CMD INSTALL DOtools StartedAt: 2025-11-11 15:59:54 -0500 (Tue, 11 Nov 2025) EndedAt: 2025-11-11 16:00:40 -0500 (Tue, 11 Nov 2025) EllapsedTime: 46.4 seconds RetCode: 0 Status: OK