Package: DOtools Version: 1.1.0 Command: /home/biocbuild/bbs-3.23-bioc/R/bin/R CMD build --keep-empty-dirs --no-resave-data DOtools StartedAt: 2025-11-11 17:25:41 -0500 (Tue, 11 Nov 2025) EndedAt: 2025-11-11 17:29:38 -0500 (Tue, 11 Nov 2025) EllapsedTime: 237.3 seconds RetCode: 0 Status: OK PackageFile: DOtools_1.1.0.tar.gz PackageFileSize: 4.762 MiB