Package: DOtools Version: 1.0.0 Command: /Library/Frameworks/R.framework/Resources/bin/R CMD build --keep-empty-dirs --no-resave-data DOtools StartedAt: 2025-10-29 23:31:11 -0400 (Wed, 29 Oct 2025) EndedAt: 2025-10-29 23:36:20 -0400 (Wed, 29 Oct 2025) EllapsedTime: 309.0 seconds RetCode: 1 Status: ERROR PackageFile: None PackageFileSize: NA