Package: DOtools Version: 0.99.11 Command: /Library/Frameworks/R.framework/Resources/bin/R CMD INSTALL DOtools StartedAt: 2025-10-17 15:30:19 -0400 (Fri, 17 Oct 2025) EndedAt: 2025-10-17 15:30:38 -0400 (Fri, 17 Oct 2025) EllapsedTime: 19.7 seconds RetCode: 0 Status: OK