Package: DOtools Version: 0.99.11 Command: /Library/Frameworks/R.framework/Resources/bin/R CMD build --keep-empty-dirs --no-resave-data DOtools StartedAt: 2025-10-19 16:14:58 -0400 (Sun, 19 Oct 2025) EndedAt: 2025-10-19 16:17:11 -0400 (Sun, 19 Oct 2025) EllapsedTime: 132.5 seconds RetCode: 1 Status: ERROR PackageFile: None PackageFileSize: NA