Package: DOSE Version: 4.3.0 Command: /Library/Frameworks/R.framework/Resources/bin/R CMD INSTALL DOSE StartedAt: 2025-05-01 15:35:00 -0400 (Thu, 01 May 2025) EndedAt: 2025-05-01 15:35:35 -0400 (Thu, 01 May 2025) EllapsedTime: 35.1 seconds RetCode: 0 Status: OK