Package: DOSE Version: 4.3.0 Command: rm -rf DOSE.buildbin-libdir && mkdir DOSE.buildbin-libdir && /Users/biocbuild/BBS/utils/build-universal.sh DOSE_4.3.0.tar.gz /Library/Frameworks/R.framework/Resources/bin/R DOSE.buildbin-libdir StartedAt: 2025-10-01 22:45:26 -0400 (Wed, 01 Oct 2025) EndedAt: 2025-10-01 22:45:36 -0400 (Wed, 01 Oct 2025) EllapsedTime: 10.2 seconds RetCode: 0 Status: OK PackageFile: DOSE_4.3.0.tgz PackageFileSize: 5.867 MiB