Back to Multiple platform build/check report for BioC 3.21:   simplified   long
ABC[D]EFGHIJKLMNOPQRSTUVWXYZ

This page was generated on 2025-02-03 12:36 -0500 (Mon, 03 Feb 2025).

HostnameOSArch (*)R versionInstalled pkgs
nebbiolo1Linux (Ubuntu 24.04.1 LTS)x86_64R Under development (unstable) (2025-01-20 r87609) -- "Unsuffered Consequences" 4704
palomino7Windows Server 2022 Datacenterx64R Under development (unstable) (2025-01-21 r87610 ucrt) -- "Unsuffered Consequences" 4467
lconwaymacOS 12.7.1 Montereyx86_64R Under development (unstable) (2025-01-22 r87618) -- "Unsuffered Consequences" 4478
Click on any hostname to see more info about the system (e.g. compilers)      (*) as reported by 'uname -p', except on Windows and Mac OS X

All results for package DOSE


To the developers/maintainers of the DOSE package:
- Allow up to 24 hours (and sometimes 48 hours) for your latest push to git@git.bioconductor.org:packages/DOSE.git to reflect on this report. See Troubleshooting Build Report for more information.
- Use the following Renviron settings to reproduce errors and warnings.
- If 'R CMD check' started to fail recently on the Linux builder(s) over a missing dependency, add the missing dependency to 'Suggests:' in your DESCRIPTION file. See Renviron.bioc for more information.

raw results

Package 596/2289HostnameOS / ArchINSTALLBUILDCHECKBUILD BIN
DOSE 4.1.0  (landing page)
Guangchuang Yu
Snapshot Date: 2025-02-02 13:40 -0500 (Sun, 02 Feb 2025)
git_url: https://git.bioconductor.org/packages/DOSE
git_branch: devel
git_last_commit: 898262a
git_last_commit_date: 2024-10-29 09:37:18 -0500 (Tue, 29 Oct 2024)
nebbiolo1Linux (Ubuntu 24.04.1 LTS) / x86_64  OK    OK    OK  UNNEEDED, same version is already published
palomino7Windows Server 2022 Datacenter / x64  OK    OK    OK    OK  UNNEEDED, same version is already published
lconwaymacOS 12.7.1 Monterey / x86_64  OK    OK    OK    OK  UNNEEDED, same version is already published



Results for Bioconductor software packages that depend directly on package DOSE

QUICK STATSOS / ArchINSTALLBUILDCHECKBUILD BIN
nebbiolo1Linux (Ubuntu 24.04.1 LTS) / x86_64
0119
0317
00116
palomino7Windows Server 2022 Datacenter / x64
0119
0317
00116
0017
lconwaymacOS 12.7.1 Monterey / x86_64
0119
0416
00115
0016
Package 1/20HostnameOS / ArchINSTALLBUILDCHECKBUILD BIN
bioCancer 1.35.0  (landing page)
Karim Mezhoud
git_last_commit: 94ee9bf
git_last_commit_date: 2024-10-29 10:11:11 -0500
nebbiolo1Linux (Ubuntu 24.04.1 LTS) / x86_64  OK    OK    OK  UNNEEDED, same version is already published
palomino7Windows Server 2022 Datacenter / x64  OK    OK    OK    OK  UNNEEDED, same version is already published
lconwaymacOS 12.7.1 Monterey / x86_64  OK    OK    OK    OK  UNNEEDED, same version is already published
Package 2/20HostnameOS / ArchINSTALLBUILDCHECKBUILD BIN
clusterProfiler 4.15.1  (landing page)
Guangchuang Yu
git_last_commit: 1aedd90
git_last_commit_date: 2024-11-29 09:35:31 -0500
nebbiolo1Linux (Ubuntu 24.04.1 LTS) / x86_64  OK    OK    OK  UNNEEDED, same version is already published
palomino7Windows Server 2022 Datacenter / x64  OK    OK    OK    OK  UNNEEDED, same version is already published
lconwaymacOS 12.7.1 Monterey / x86_64  OK    OK    OK    OK  UNNEEDED, same version is already published
Package 3/20HostnameOS / ArchINSTALLBUILDCHECKBUILD BIN
debrowser 1.35.0  (landing page)
Alper Kucukural
git_last_commit: d896173
git_last_commit_date: 2024-10-29 10:08:44 -0500
nebbiolo1Linux (Ubuntu 24.04.1 LTS) / x86_64  OK    OK    OK  UNNEEDED, same version is already published
palomino7Windows Server 2022 Datacenter / x64  OK    OK    OK    OK  NO, package depends on 'DESeq2' which is only available as a source package that needs compilation
lconwaymacOS 12.7.1 Monterey / x86_64  OK    OK    OK    OK  NO, package depends on 'DESeq2' which is only available as a source package that needs compilation
Package 4/20HostnameOS / ArchINSTALLBUILDCHECKBUILD BIN
enrichplot 1.27.4  (landing page)
Guangchuang Yu
git_last_commit: 2ee77c6
git_last_commit_date: 2025-01-07 21:35:24 -0500
nebbiolo1Linux (Ubuntu 24.04.1 LTS) / x86_64  OK    OK    OK  UNNEEDED, same version is already published
palomino7Windows Server 2022 Datacenter / x64  OK    OK    OK    OK  UNNEEDED, same version is already published
lconwaymacOS 12.7.1 Monterey / x86_64  OK    OK    OK    OK  UNNEEDED, same version is already published
Package 5/20HostnameOS / ArchINSTALLBUILDCHECKBUILD BIN
enrichViewNet 1.5.0  (landing page)
Astrid DeschĂȘnes
git_last_commit: b9b8a23
git_last_commit_date: 2024-10-29 11:25:06 -0500
nebbiolo1Linux (Ubuntu 24.04.1 LTS) / x86_64  OK    OK    OK  UNNEEDED, same version is already published
palomino7Windows Server 2022 Datacenter / x64  OK    OK    OK    OK  UNNEEDED, same version is already published
lconwaymacOS 12.7.1 Monterey / x86_64  OK    OK    OK    OK  UNNEEDED, same version is already published
Package 6/20HostnameOS / ArchINSTALLBUILDCHECKBUILD BIN
GDCRNATools 1.27.0  (landing page)
Ruidong Li
git_last_commit: e6c5e2e
git_last_commit_date: 2024-10-29 10:25:07 -0500
nebbiolo1Linux (Ubuntu 24.04.1 LTS) / x86_64  OK    OK    OK  UNNEEDED, same version is already published
palomino7Windows Server 2022 Datacenter / x64  OK    OK    OK    OK  NO, package depends on 'DESeq2' which is only available as a source package that needs compilation
lconwaymacOS 12.7.1 Monterey / x86_64  OK    OK    OK    OK  NO, package depends on 'DESeq2' which is only available as a source package that needs compilation
Package 7/20HostnameOS / ArchINSTALLBUILDCHECKBUILD BIN
MAGeCKFlute 2.11.1  (landing page)
Wubing Zhang
git_last_commit: 29ad26b
git_last_commit_date: 2024-12-17 10:54:40 -0500
nebbiolo1Linux (Ubuntu 24.04.1 LTS) / x86_64  OK    ERROR  skipped
palomino7Windows Server 2022 Datacenter / x64  OK    ERROR  skippedskipped
lconwaymacOS 12.7.1 Monterey / x86_64  OK    ERROR  skippedskipped
Package 8/20HostnameOS / ArchINSTALLBUILDCHECKBUILD BIN
meshes 1.33.0  (landing page)
Guangchuang Yu
git_last_commit: 708aa6d
git_last_commit_date: 2024-10-29 10:15:18 -0500
nebbiolo1Linux (Ubuntu 24.04.1 LTS) / x86_64  OK    OK    OK  UNNEEDED, same version is already published
palomino7Windows Server 2022 Datacenter / x64  OK    OK    OK    OK  UNNEEDED, same version is already published
lconwaymacOS 12.7.1 Monterey / x86_64  OK    OK    OK    OK  UNNEEDED, same version is already published
Package 9/20HostnameOS / ArchINSTALLBUILDCHECKBUILD BIN
miRSM 2.3.0  (landing page)
Junpeng Zhang
git_last_commit: b0bce7f
git_last_commit_date: 2024-10-29 10:30:55 -0500
nebbiolo1Linux (Ubuntu 24.04.1 LTS) / x86_64  OK    OK    OK  UNNEEDED, same version is already published
palomino7Windows Server 2022 Datacenter / x64  OK    OK    OK    OK  UNNEEDED, same version is already published
lconwaymacOS 12.7.1 Monterey / x86_64  OK    OK    OK    OK  UNNEEDED, same version is already published
Package 10/20HostnameOS / ArchINSTALLBUILDCHECKBUILD BIN
miRspongeR 2.11.0  (landing page)
Junpeng Zhang
git_last_commit: c3dd126
git_last_commit_date: 2024-10-29 10:21:31 -0500
nebbiolo1Linux (Ubuntu 24.04.1 LTS) / x86_64  OK    OK    OK  UNNEEDED, same version is already published
palomino7Windows Server 2022 Datacenter / x64  OK    OK    OK    OK  UNNEEDED, same version is already published
lconwaymacOS 12.7.1 Monterey / x86_64  OK    OK    OK    OK  UNNEEDED, same version is already published
Package 11/20HostnameOS / ArchINSTALLBUILDCHECKBUILD BIN
Moonlight2R 1.5.4  (landing page)
Matteo Tiberti
git_last_commit: 552fc09
git_last_commit_date: 2025-01-24 08:44:16 -0500
nebbiolo1Linux (Ubuntu 24.04.1 LTS) / x86_64  OK    OK    OK  UNNEEDED, same version is already published
palomino7Windows Server 2022 Datacenter / x64  OK    OK    OK    OK  UNNEEDED, same version is already published
lconwaymacOS 12.7.1 Monterey / x86_64  OK    OK    OK    OK  NO, package depends on 'rtracklayer' which is only available as a source package that needs compilation
Package 12/20HostnameOS / ArchINSTALLBUILDCHECKBUILD BIN
MoonlightR 1.33.0  (landing page)
Matteo Tiberti
git_last_commit: e51fead
git_last_commit_date: 2024-10-29 10:15:00 -0500
nebbiolo1Linux (Ubuntu 24.04.1 LTS) / x86_64  OK    OK    OK  UNNEEDED, same version is already published
palomino7Windows Server 2022 Datacenter / x64  OK    OK    OK    OK  UNNEEDED, same version is already published
lconwaymacOS 12.7.1 Monterey / x86_64  OK    OK    OK    OK  UNNEEDED, same version is already published
Package 13/20HostnameOS / ArchINSTALLBUILDCHECKBUILD BIN
pareg 1.11.1  (landing page)
Kim Philipp Jablonski
git_last_commit: d4dd6af
git_last_commit_date: 2024-12-17 11:03:28 -0500
nebbiolo1Linux (Ubuntu 24.04.1 LTS) / x86_64  OK    ERROR  skipped
palomino7Windows Server 2022 Datacenter / x64  OK    ERROR  skippedskipped
lconwaymacOS 12.7.1 Monterey / x86_64  OK    ERROR  skippedskipped
Package 14/20HostnameOS / ArchINSTALLBUILDCHECKBUILD BIN
Pigengene 1.33.0  (landing page)
Habil Zare
git_last_commit: 25bba85
git_last_commit_date: 2024-10-29 10:11:14 -0500
nebbiolo1Linux (Ubuntu 24.04.1 LTS) / x86_64  OK    OK    OK  UNNEEDED, same version is already published
palomino7Windows Server 2022 Datacenter / x64  OK    OK    OK    OK  UNNEEDED, same version is already published
lconwaymacOS 12.7.1 Monterey / x86_64  OK    OK    OK    OK  UNNEEDED, same version is already published
Package 15/20HostnameOS / ArchINSTALLBUILDCHECKBUILD BIN
ReactomePA 1.51.0  (landing page)
Guangchuang Yu
git_last_commit: e581e3e
git_last_commit_date: 2024-10-29 09:40:37 -0500
nebbiolo1Linux (Ubuntu 24.04.1 LTS) / x86_64  OK    OK    OK  UNNEEDED, same version is already published
palomino7Windows Server 2022 Datacenter / x64  OK    OK    OK    OK  UNNEEDED, same version is already published
lconwaymacOS 12.7.1 Monterey / x86_64  OK    OK    OK    OK  UNNEEDED, same version is already published
Package 16/20HostnameOS / ArchINSTALLBUILDCHECKBUILD BIN
RegEnrich 1.17.0  (landing page)
Weiyang Tao
git_last_commit: 231e44e
git_last_commit_date: 2024-10-29 10:47:44 -0500
nebbiolo1Linux (Ubuntu 24.04.1 LTS) / x86_64  OK    OK    OK  UNNEEDED, same version is already published
palomino7Windows Server 2022 Datacenter / x64  OK    OK    OK    OK  NO, package depends on 'DESeq2' which is only available as a source package that needs compilation
lconwaymacOS 12.7.1 Monterey / x86_64  OK    ERROR  skippedskipped
Package 17/20HostnameOS / ArchINSTALLBUILDCHECKBUILD BIN
scTensor 2.17.0  (landing page)
Koki Tsuyuzaki
git_last_commit: dceaf02
git_last_commit_date: 2024-10-29 10:33:23 -0500
nebbiolo1Linux (Ubuntu 24.04.1 LTS) / x86_64  OK    OK    WARNINGS  UNNEEDED, same version is already published
palomino7Windows Server 2022 Datacenter / x64  OK    OK    WARNINGS    OK  UNNEEDED, same version is already published
lconwaymacOS 12.7.1 Monterey / x86_64  OK    OK    WARNINGS    OK  UNNEEDED, same version is already published
Package 18/20HostnameOS / ArchINSTALLBUILDCHECKBUILD BIN
signatureSearch 1.21.0  (landing page)
Brendan Gongol
git_last_commit: eef2cb2
git_last_commit_date: 2024-10-29 10:41:56 -0500
nebbiolo1Linux (Ubuntu 24.04.1 LTS) / x86_64  OK    OK    OK  UNNEEDED, same version is already published
palomino7Windows Server 2022 Datacenter / x64  OK    OK    OK    OK  UNNEEDED, same version is already published
lconwaymacOS 12.7.1 Monterey / x86_64  OK    OK    OK    OK  UNNEEDED, same version is already published
Package 19/20HostnameOS / ArchINSTALLBUILDCHECKBUILD BIN
SVMDO 1.7.0  (landing page)
Mustafa Erhan Ozer
git_last_commit: 5dea70d
git_last_commit_date: 2024-10-29 11:20:46 -0500
nebbiolo1Linux (Ubuntu 24.04.1 LTS) / x86_64  OK    OK    OK  UNNEEDED, same version is already published
palomino7Windows Server 2022 Datacenter / x64  OK    OK    OK    OK  UNNEEDED, same version is already published
lconwaymacOS 12.7.1 Monterey / x86_64  OK    OK    OK    OK  UNNEEDED, same version is already published
Package 20/20HostnameOS / ArchINSTALLBUILDCHECKBUILD BIN
TDbasedUFEadv 1.7.0  (landing page)
Y-h. Taguchi
git_last_commit: 8134ead
git_last_commit_date: 2024-10-29 11:19:12 -0500
nebbiolo1Linux (Ubuntu 24.04.1 LTS) / x86_64  ERROR    ERROR  skipped
palomino7Windows Server 2022 Datacenter / x64  ERROR    ERROR  skippedskipped
lconwaymacOS 12.7.1 Monterey / x86_64  ERROR    ERROR  skippedskipped