Package: DNEA Version: 0.99.14 Command: /home/biocbuild/bbs-3.22-bioc/R/bin/R CMD INSTALL DNEA StartedAt: 2025-10-08 15:51:01 -0400 (Wed, 08 Oct 2025) EndedAt: 2025-10-08 15:51:39 -0400 (Wed, 08 Oct 2025) EllapsedTime: 37.9 seconds RetCode: 0 Status: OK