Package: DNEA Version: 0.99.14 Command: /home/biocbuild/bbs-3.22-bioc/R/bin/R CMD build --keep-empty-dirs --no-resave-data --md5 DNEA StartedAt: 2025-10-07 17:26:16 -0400 (Tue, 07 Oct 2025) EndedAt: 2025-10-07 17:27:44 -0400 (Tue, 07 Oct 2025) EllapsedTime: 88.1 seconds RetCode: 0 Status: OK PackageFile: DNEA_0.99.14.tar.gz PackageFileSize: 4.306 MiB