Package: DNEA Version: 1.1.0 Command: /Library/Frameworks/R.framework/Resources/bin/R CMD INSTALL DNEA StartedAt: 2025-11-19 15:16:31 -0500 (Wed, 19 Nov 2025) EndedAt: 2025-11-19 15:16:45 -0500 (Wed, 19 Nov 2025) EllapsedTime: 13.5 seconds RetCode: 0 Status: OK