Package: DNEA Version: 1.1.0 Command: /Library/Frameworks/R.framework/Resources/bin/R CMD build --keep-empty-dirs --no-resave-data DNEA StartedAt: 2025-11-18 16:23:10 -0500 (Tue, 18 Nov 2025) EndedAt: 2025-11-18 16:23:45 -0500 (Tue, 18 Nov 2025) EllapsedTime: 34.3 seconds RetCode: 0 Status: OK PackageFile: DNEA_1.1.0.tar.gz PackageFileSize: 4.381 MiB