Package: DNEA Version: 1.1.0 Command: rm -rf DNEA.buildbin-libdir && mkdir DNEA.buildbin-libdir && /Users/biocbuild/BBS/utils/build-universal.sh DNEA_1.1.0.tar.gz /Library/Frameworks/R.framework/Resources/bin/R DNEA.buildbin-libdir StartedAt: 2025-11-19 23:32:13 -0500 (Wed, 19 Nov 2025) EndedAt: 2025-11-19 23:32:29 -0500 (Wed, 19 Nov 2025) EllapsedTime: 16.3 seconds RetCode: 0 Status: OK PackageFile: DNEA_1.1.0.tgz PackageFileSize: 3.524 MiB