Package: DNAshapeR Version: 1.37.0 Command: rm -rf DNAshapeR.buildbin-libdir && mkdir DNAshapeR.buildbin-libdir && F:\biocbuild\bbs-3.22-bioc\R\bin\R.exe CMD INSTALL --build --library=DNAshapeR.buildbin-libdir DNAshapeR_1.37.0.tar.gz StartedAt: 2025-08-15 10:10:53 -0400 (Fri, 15 Aug 2025) EndedAt: 2025-08-15 10:11:45 -0400 (Fri, 15 Aug 2025) EllapsedTime: 51.8 seconds RetCode: 0 Status: OK PackageFile: DNAshapeR_1.37.0.zip PackageFileSize: 1.454 MiB