Package: DNAshapeR Version: 1.37.0 Command: /Library/Frameworks/R.framework/Resources/bin/R CMD INSTALL DNAshapeR StartedAt: 2025-05-07 15:16:09 -0400 (Wed, 07 May 2025) EndedAt: 2025-05-07 15:16:58 -0400 (Wed, 07 May 2025) EllapsedTime: 48.9 seconds RetCode: 0 Status: OK