Package: DNAshapeR Version: 1.37.0 Command: /Library/Frameworks/R.framework/Resources/bin/R CMD build --keep-empty-dirs --no-resave-data DNAshapeR StartedAt: 2025-05-08 16:38:47 -0400 (Thu, 08 May 2025) EndedAt: 2025-05-08 16:40:04 -0400 (Thu, 08 May 2025) EllapsedTime: 76.4 seconds RetCode: 0 Status: OK PackageFile: DNAshapeR_1.37.0.tar.gz PackageFileSize: 1.138 MiB