Package: DNAfusion Version: 1.11.0 Maintainer: Christoffer Trier Maansson MaintainerEmail: ctm at clin.au.dk git_url: https://git.bioconductor.org/packages/DNAfusion git_branch: devel git_last_commit: 2308eec git_last_commit_date: 2025-05-13 07:26:04 -0400 (Tue, 13 May 2025)