Package: DNAcycP2 Version: 1.1.0 Command: /home/biocbuild/bbs-3.22-bioc/R/bin/R CMD build --keep-empty-dirs --no-resave-data --md5 DNAcycP2 StartedAt: 2025-10-02 17:23:25 -0400 (Thu, 02 Oct 2025) EndedAt: 2025-10-02 17:24:48 -0400 (Thu, 02 Oct 2025) EllapsedTime: 83.0 seconds RetCode: 0 Status: OK PackageFile: DNAcycP2_1.1.0.tar.gz PackageFileSize: 2.317 MiB