Package: DNAcopy Version: 1.83.0 Command: /home/biocbuild/bbs-3.22-bioc/R/bin/R CMD INSTALL DNAcopy StartedAt: 2025-10-07 15:01:45 -0400 (Tue, 07 Oct 2025) EndedAt: 2025-10-07 15:01:55 -0400 (Tue, 07 Oct 2025) EllapsedTime: 9.7 seconds RetCode: 0 Status: OK